BEGIN:VCALENDAR
VERSION:2.0
PRODID:-//Colorado Springs Backpackers - ECPv6.15.20//NONSGML v1.0//EN
CALSCALE:GREGORIAN
METHOD:PUBLISH
X-WR-CALNAME:Colorado Springs Backpackers
X-ORIGINAL-URL:https://cosbackpackers.com
X-WR-CALDESC:Events for Colorado Springs Backpackers
REFRESH-INTERVAL;VALUE=DURATION:PT1H
X-Robots-Tag:noindex
X-PUBLISHED-TTL:PT1H
BEGIN:VTIMEZONE
TZID:America/Denver
BEGIN:DAYLIGHT
TZOFFSETFROM:-0700
TZOFFSETTO:-0600
TZNAME:MDT
DTSTART:20250309T090000
END:DAYLIGHT
BEGIN:STANDARD
TZOFFSETFROM:-0600
TZOFFSETTO:-0700
TZNAME:MST
DTSTART:20251102T080000
END:STANDARD
BEGIN:DAYLIGHT
TZOFFSETFROM:-0700
TZOFFSETTO:-0600
TZNAME:MDT
DTSTART:20260308T090000
END:DAYLIGHT
BEGIN:STANDARD
TZOFFSETFROM:-0600
TZOFFSETTO:-0700
TZNAME:MST
DTSTART:20261101T080000
END:STANDARD
BEGIN:DAYLIGHT
TZOFFSETFROM:-0700
TZOFFSETTO:-0600
TZNAME:MDT
DTSTART:20270314T090000
END:DAYLIGHT
BEGIN:STANDARD
TZOFFSETFROM:-0600
TZOFFSETTO:-0700
TZNAME:MST
DTSTART:20271107T080000
END:STANDARD
END:VTIMEZONE
BEGIN:VEVENT
DTSTART;TZID=America/Denver:20260918T080000
DTEND;TZID=America/Denver:20260920T170000
DTSTAMP:20260425T182333
CREATED:20260312T194256Z
LAST-MODIFIED:20260413T182243Z
UID:760-1789718400-1789923600@cosbackpackers.com
SUMMARY:Three Island Lake + Zirkel Circle (fall colors)
DESCRIPTION:This event is open to members only who have completed a qualifying hike and the waiver. \nThis is a rescheduled event from 2025. RSVPs from 2025 have first choice and their RSVP has been carried over. \nGroup size 8 people. Well-behaved\, leashed trail dogs are welcome as long as they have completed a qualifying hike. \nYou will be put on the waitlist before being approved. Those meeting the first two below-required actions will be moved off the waitlist in the order in which they RSVP’d. \nRequired actions before trip:\n1 – *Fill out waiver: https://forms.gle/71SPiqc4iyqDmD8Y7\n2 – *Complete a qualifying hike (dogs included). Please look at our calendar of events regularly as we update it often!\n3- Attend a pre-planning Google Hangout meeting on September 28\, 2025 at 7 pm.\n*including any 1+. \nCombining 2 popular hikes into a 21 mile backpacking loop!\n3 days / 2 nights\, ~ 21 miles\, ~4633 ft – Rating: Moderate \n\nFriday: Drive to Trailhead // Hike ~6.13 mi // gross: +2529′-105′ // Camp 10\,537 ft\nSaturday: Hike ~9.1 miles // gross: +2018′-3052′ // Camp 9\,499\nSunday: Hike ~ 5.57 miles\, including 2.5 miles of road hiking // gross: +92′-1489′
URL:https://cosbackpackers.com/event/three-island-lake-zirkel-circle-fall-colors/
LOCATION:Meeting Location Available Only to Attendees
CATEGORIES:Overnight
ORGANIZER;CN="Leigh":MAILTO:cosbackpackers@gmail.com
END:VEVENT
END:VCALENDAR